BEGIN:VCALENDAR
VERSION:2.0
PRODID:-//Perfect Paws U by Kings - ECPv6.3.1//NONSGML v1.0//EN
CALSCALE:GREGORIAN
METHOD:PUBLISH
X-ORIGINAL-URL:https://perfectpawsu.com
X-WR-CALDESC:Events for Perfect Paws U by Kings
REFRESH-INTERVAL;VALUE=DURATION:PT1H
X-Robots-Tag:noindex
X-PUBLISHED-TTL:PT1H
BEGIN:VTIMEZONE
TZID:America/New_York
BEGIN:DAYLIGHT
TZOFFSETFROM:-0500
TZOFFSETTO:-0400
TZNAME:EDT
DTSTART:20210314T070000
END:DAYLIGHT
BEGIN:STANDARD
TZOFFSETFROM:-0400
TZOFFSETTO:-0500
TZNAME:EST
DTSTART:20211107T060000
END:STANDARD
END:VTIMEZONE
BEGIN:VEVENT
DTSTART;TZID=America/New_York:20211203T160000
DTEND;TZID=America/New_York:20211203T220000
DTSTAMP:20260422T195706
CREATED:20211108T215502Z
LAST-MODIFIED:20211108T215502Z
UID:1227-1638547200-1638568800@perfectpawsu.com
SUMMARY:ATT Test Metropolitan Baltimore Doberman Pinscher Club
DESCRIPTION:AKC ATT test to be held at Perfect Paws U. Cost is $40.00 per test. Premium is on AKC website or email ppu4dogs@comcast.net for a premium to be emailed.
URL:https://perfectpawsu.com/event/att-test-metropolitan-baltimore-doberman-pinscher-club/
LOCATION:Perfect Paws U\, 1040 Valley View Road\, York\, PA\, 17406\, United States
ORGANIZER;CN="Roseann LaVia":MAILTO:ppu4dogs@comcast.net
END:VEVENT
END:VCALENDAR